BEGIN:VCALENDAR
VERSION:2.0
PRODID:-//QHA Training - ECPv6.15.20//NONSGML v1.0//EN
CALSCALE:GREGORIAN
METHOD:PUBLISH
X-WR-CALNAME:QHA Training
X-ORIGINAL-URL:https://training.qha.org.au
X-WR-CALDESC:Events for QHA Training
REFRESH-INTERVAL;VALUE=DURATION:PT1H
X-Robots-Tag:noindex
X-PUBLISHED-TTL:PT1H
BEGIN:VTIMEZONE
TZID:UTC
BEGIN:STANDARD
TZOFFSETFROM:+0000
TZOFFSETTO:+0000
TZNAME:UTC
DTSTART:20250101T000000
END:STANDARD
END:VTIMEZONE
BEGIN:VEVENT
DTSTART;TZID=UTC:20260803T090000
DTEND;TZID=UTC:20260804T170000
DTSTAMP:20260424T143826
CREATED:20260226T013407Z
LAST-MODIFIED:20260226T013407Z
UID:3397-1785747600-1785862800@training.qha.org.au
SUMMARY:Developing Hotel Management Skills
DESCRIPTION:Developing Hotel Management Skills \n\n\n\nCOST\n\nMember Price: $595\n\nNon Member Price: $719\n**Discount applied at shopping cart\n\n \n\nOVERVIEW\n\n\nThis two-day workshop is run by Peter Hall\, a long-time hotelier and industry consultant. The workshop provides participants with a greater understanding of their venue as a total business entity and takes an in-depth approach to all business facets from wages and stock control through to profitability factors and promotions. It is ideal for all levels of management from ’supervisors with potential’ through to experienced managers/licensees. Participants will receive a Statement of Attendance as well as course workbook and handouts\, and an individual action plan. DHMS is relevant in all states and territories but is not nationally recognised training. \n\nA two day program to improve hospitality management skills: \n\n\n	Improve business profitability and performance\n	Better utilise managerial time and improve business enthusiasm\n	Create professional venue management standards\n\n\nContents: \n\n\n	Understanding hotel & department figures\n	Strategies to improve profitability\n	Understanding different personality types\n	Sourcing and training better staff\n	Team management - setting performance standards\n	Developing a customer satisfaction culture\n	Problem\, time management and objective setting\n\n\n\n  \n\n\n  \nEnquire\n\nUpcoming Workshops\n\n\nName\nDate\nTime\nLocation\nAvailable Spaces\nCost\nSelect an Option to Enrol\n\n\n\n\n\nDeveloping Hotel Management Skills\n3 & 4 August 2026\n09:00 am - 05:00 pm\nQHA House\n19\n$719.00\n\n\n\nEnrol\nMembers Enrol\nNon-Members Enrol\nCorporate Partner\nNon Hotel Attendee
URL:https://training.qha.org.au/event/developing-hotel-management-skills/
LOCATION:QHA House\, QHA House\, Australia
CATEGORIES:Workshop
END:VEVENT
END:VCALENDAR